BEGIN:VCALENDAR
VERSION:2.0
PRODID:-//Teatro Mercadante - ECPv6.15.20//NONSGML v1.0//EN
CALSCALE:GREGORIAN
METHOD:PUBLISH
X-ORIGINAL-URL:https://www.teatromercadante.com
X-WR-CALDESC:Eventi per Teatro Mercadante
REFRESH-INTERVAL;VALUE=DURATION:PT1H
X-Robots-Tag:noindex
X-PUBLISHED-TTL:PT1H
BEGIN:VTIMEZONE
TZID:Europe/Helsinki
BEGIN:DAYLIGHT
TZOFFSETFROM:+0200
TZOFFSETTO:+0300
TZNAME:EEST
DTSTART:20210328T010000
END:DAYLIGHT
BEGIN:STANDARD
TZOFFSETFROM:+0300
TZOFFSETTO:+0200
TZNAME:EET
DTSTART:20211031T010000
END:STANDARD
BEGIN:DAYLIGHT
TZOFFSETFROM:+0200
TZOFFSETTO:+0300
TZNAME:EEST
DTSTART:20220327T010000
END:DAYLIGHT
BEGIN:STANDARD
TZOFFSETFROM:+0300
TZOFFSETTO:+0200
TZNAME:EET
DTSTART:20221030T010000
END:STANDARD
BEGIN:DAYLIGHT
TZOFFSETFROM:+0200
TZOFFSETTO:+0300
TZNAME:EEST
DTSTART:20230326T010000
END:DAYLIGHT
BEGIN:STANDARD
TZOFFSETFROM:+0300
TZOFFSETTO:+0200
TZNAME:EET
DTSTART:20231029T010000
END:STANDARD
END:VTIMEZONE
BEGIN:VEVENT
DTSTART;TZID=Europe/Helsinki:20221210T230000
DTEND;TZID=Europe/Helsinki:20221211T010000
DTSTAMP:20260423T110625
CREATED:20230220T152011Z
LAST-MODIFIED:20230404T120710Z
UID:10000023-1670713200-1670720400@www.teatromercadante.com
SUMMARY:Carlo Buccirosso
DESCRIPTION:Marcello Trevisan\, irreprensibile scrupoloso cassiere di banca\, da tempo in aperta crisi matrimoniale\, vive un momento di profonda depressione\, insoddisfatto del proprio tenore di vita ed è così che pervaso dall’adrenalina della novità\, si ritroverà presto soggiogato dalla sindrome dell’”Erba del vicino”\, ovverosia dalla sopravvalutazione di tutto quanto non gli appartenga\, di qualsiasi tipo di emozione possa procurargli una donna che non sia uguale a sua moglie… Il tutto accompagnato da un doloroso senso di autocommiserazione\, e da un’ammirazione spropositata verso chi nella vita ha saputo guadagnarsi\, con grande fortuna\, soldi e successo a sbafo. Sarà allora che quel senso di attrazione verso colui che sa essere quello che giocoforza non sei mai stato tu\, potrà improvvisamente trasformarsi in invidia malsana\, e di lì a poco in un’irrefrenabile follia omicida! In un simile spiazzante panorama\, chiunque avesse la malaugurata idea di suonare alla porta di casa Trevisan per qualsivoglia motivo\, come per la consegna di un’ordinazione dal giapponese o di un pacco postale\, o per un incontro privato fissato su una hot chat\, o peggio ancora per uno sventurato errore domiciliare\, si troverebbe nell’arduo compito di tentare di uscire dall’appartamento in tempi brevi\, e possibilmente nelle migliori condizioni di salute!… In definitiva\, “l’erba del vicino” sarà pure più verde\, ma l’importante è che non si macchi mai di rosso “sangue”. E se invece\, fosse proprio il vicino di casa in carne ed ossa\, a sfidare la sorte suonando alla porta dell’appartamento di Marcello?…
URL:https://www.teatromercadante.com/eventi/carlo-buccirosso-2/
CATEGORIES:Rassegna "Mettiamoci in prosa"
ATTACH;FMTTYPE=image/jpeg:https://www.teatromercadante.com/wp-content/uploads/2023/02/carlo-buccirosso-e1684769933959.jpg
END:VEVENT
BEGIN:VEVENT
DTSTART;TZID=Europe/Helsinki:20221211T193000
DTEND;TZID=Europe/Helsinki:20221211T213000
DTSTAMP:20260423T110625
CREATED:20230220T151936Z
LAST-MODIFIED:20230404T120750Z
UID:10000022-1670787000-1670794200@www.teatromercadante.com
SUMMARY:Carlo Buccirosso
DESCRIPTION:Marcello Trevisan\, irreprensibile scrupoloso cassiere di banca\, da tempo in aperta crisi matrimoniale\, vive un momento di profonda depressione\, insoddisfatto del proprio tenore di vita ed è così che pervaso dall’adrenalina della novità\, si ritroverà presto soggiogato dalla sindrome dell’”Erba del vicino”\, ovverosia dalla sopravvalutazione di tutto quanto non gli appartenga\, di qualsiasi tipo di emozione possa procurargli una donna che non sia uguale a sua moglie… Il tutto accompagnato da un doloroso senso di autocommiserazione\, e da un’ammirazione spropositata verso chi nella vita ha saputo guadagnarsi\, con grande fortuna\, soldi e successo a sbafo. Sarà allora che quel senso di attrazione verso colui che sa essere quello che giocoforza non sei mai stato tu\, potrà improvvisamente trasformarsi in invidia malsana\, e di lì a poco in un’irrefrenabile follia omicida! In un simile spiazzante panorama\, chiunque avesse la malaugurata idea di suonare alla porta di casa Trevisan per qualsivoglia motivo\, come per la consegna di un’ordinazione dal giapponese o di un pacco postale\, o per un incontro privato fissato su una hot chat\, o peggio ancora per uno sventurato errore domiciliare\, si troverebbe nell’arduo compito di tentare di uscire dall’appartamento in tempi brevi\, e possibilmente nelle migliori condizioni di salute!… In definitiva\, “l’erba del vicino” sarà pure più verde\, ma l’importante è che non si macchi mai di rosso “sangue”. E se invece\, fosse proprio il vicino di casa in carne ed ossa\, a sfidare la sorte suonando alla porta dell’appartamento di Marcello?
URL:https://www.teatromercadante.com/eventi/carlo-buccirosso/
CATEGORIES:Rassegna "Mettiamoci in prosa"
ATTACH;FMTTYPE=image/jpeg:https://www.teatromercadante.com/wp-content/uploads/2023/02/carlo-buccirosso-e1684769933959.jpg
END:VEVENT
END:VCALENDAR