BEGIN:VCALENDAR
VERSION:2.0
PRODID:-//Teatro Mercadante - ECPv6.15.20//NONSGML v1.0//EN
CALSCALE:GREGORIAN
METHOD:PUBLISH
X-ORIGINAL-URL:https://www.teatromercadante.com
X-WR-CALDESC:Eventi per Teatro Mercadante
REFRESH-INTERVAL;VALUE=DURATION:PT1H
X-Robots-Tag:noindex
X-PUBLISHED-TTL:PT1H
BEGIN:VTIMEZONE
TZID:Europe/Helsinki
BEGIN:DAYLIGHT
TZOFFSETFROM:+0200
TZOFFSETTO:+0300
TZNAME:EEST
DTSTART:20210328T010000
END:DAYLIGHT
BEGIN:STANDARD
TZOFFSETFROM:+0300
TZOFFSETTO:+0200
TZNAME:EET
DTSTART:20211031T010000
END:STANDARD
BEGIN:DAYLIGHT
TZOFFSETFROM:+0200
TZOFFSETTO:+0300
TZNAME:EEST
DTSTART:20220327T010000
END:DAYLIGHT
BEGIN:STANDARD
TZOFFSETFROM:+0300
TZOFFSETTO:+0200
TZNAME:EET
DTSTART:20221030T010000
END:STANDARD
BEGIN:DAYLIGHT
TZOFFSETFROM:+0200
TZOFFSETTO:+0300
TZNAME:EEST
DTSTART:20230326T010000
END:DAYLIGHT
BEGIN:STANDARD
TZOFFSETFROM:+0300
TZOFFSETTO:+0200
TZNAME:EET
DTSTART:20231029T010000
END:STANDARD
END:VTIMEZONE
BEGIN:VEVENT
DTSTART;TZID=Europe/Helsinki:20221203T230000
DTEND;TZID=Europe/Helsinki:20221204T010000
DTSTAMP:20260423T123307
CREATED:20230220T150301Z
LAST-MODIFIED:20230404T120821Z
UID:10000016-1670108400-1670115600@www.teatromercadante.com
SUMMARY:Emanuela Aureli
DESCRIPTION:Emanuela Aureli si esibirà in uno Stand Up Comedy\, un monologo comico\, accompagnata dal chitarrista Giandomenico Anellino. La nostra protagonista avrà modo\, durante il suo One Woman Show\, di esprimersi in tutta la sua bravura e la sua simpaticissima ironia\, raccontandoci la storia della sua carriera\, sin dagli inizi\, con una serie di aneddoti buffi spesso legati alla sua fisicità. Emanuela si diverte e ci diverte\, con molta autoironia\, a prendersi in giro intrecciando la sua vita privata\, a partire dalla nascita\, a quella del lavoro. Una ragazza piena di complessi\, anche se si esibisce con un pianista solo\, che trasforma le sue goffaggini in un punto di forza tanto da conquistare il grande pubblico e gli addetti ai lavori\, cosa notoriamente molto rara! Ne scaturiscono esilaranti battute\, gag\, imitazioni\, storielle paradossali\, talvolta appoggiate anche dall’eclettico Anellino pronto a far da spalla alla nostra protagonista. Non ultime le doti vocali di Emanuela che potremo apprezzare ascoltando celebri canzoni che ci canterà approfittando delle sue deliziose imitazioni! Insomma potrete ammirare dal vivo in un colpo solo tutti i suoi personaggi che sono tantissimi\, un vero e proprio condominio di gente affollata in una persona sola… e gestire un condominio non è semplice\, tra riunioni\, lamentele e dissapori talvolta i condomini ti stravolgono le giornate\, ma vedrete… Emanuela ce la farà anche stRavolta!!!
URL:https://www.teatromercadante.com/eventi/emanuela-aureli/
CATEGORIES:Rassegna "Comi-città"
ATTACH;FMTTYPE=image/jpeg:https://www.teatromercadante.com/wp-content/uploads/2023/02/emanuela-aureli-e1684769889399.jpg
END:VEVENT
END:VCALENDAR