BEGIN:VCALENDAR
VERSION:2.0
PRODID:-//Teatro Mercadante - ECPv6.15.20//NONSGML v1.0//EN
CALSCALE:GREGORIAN
METHOD:PUBLISH
X-ORIGINAL-URL:https://www.teatromercadante.com
X-WR-CALDESC:Eventi per Teatro Mercadante
REFRESH-INTERVAL;VALUE=DURATION:PT1H
X-Robots-Tag:noindex
X-PUBLISHED-TTL:PT1H
BEGIN:VTIMEZONE
TZID:Europe/Helsinki
BEGIN:DAYLIGHT
TZOFFSETFROM:+0200
TZOFFSETTO:+0300
TZNAME:EEST
DTSTART:20210328T010000
END:DAYLIGHT
BEGIN:STANDARD
TZOFFSETFROM:+0300
TZOFFSETTO:+0200
TZNAME:EET
DTSTART:20211031T010000
END:STANDARD
BEGIN:DAYLIGHT
TZOFFSETFROM:+0200
TZOFFSETTO:+0300
TZNAME:EEST
DTSTART:20220327T010000
END:DAYLIGHT
BEGIN:STANDARD
TZOFFSETFROM:+0300
TZOFFSETTO:+0200
TZNAME:EET
DTSTART:20221030T010000
END:STANDARD
BEGIN:DAYLIGHT
TZOFFSETFROM:+0200
TZOFFSETTO:+0300
TZNAME:EEST
DTSTART:20230326T010000
END:DAYLIGHT
BEGIN:STANDARD
TZOFFSETFROM:+0300
TZOFFSETTO:+0200
TZNAME:EET
DTSTART:20231029T010000
END:STANDARD
END:VTIMEZONE
BEGIN:VEVENT
DTSTART;TZID=Europe/Helsinki:20221028T230000
DTEND;TZID=Europe/Helsinki:20221029T010000
DTSTAMP:20260423T135958
CREATED:20230220T144625Z
LAST-MODIFIED:20230404T121354Z
UID:10000012-1666998000-1667005200@www.teatromercadante.com
SUMMARY:Faber Musicae
DESCRIPTION:L’esperienza È un progetto nato in occasione delle attività\, organizzate dalla Provincia di Cosenza\, in ricordo di De Andrè: “Le Nuvole di De Andrè” e che coinvolge un gruppo di musicisti di formazione tanto solida quanto varia\, provenienti dagli ambiti della classica\, del jazz\, della world music. Grazie ad un lavoro collettivo sono state riarrangiate alcune tra le più famose canzoni del cantautore genovese che\, a vario titolo\, fanno parte del nostro immaginario e della nostra storia. L’adozione di varie tecniche di orchestrazione e il gusto per lo stravolgimento ritmico caratterizzano il lavoro svolto dal gruppo\, che ha mantenuto integralmente i testi pur facendoli rivivere attraverso l’interpretazione del cantante/attore Alessandro Castriota Scanderbeg. I musicisti interpretano Il Pescatore\, La Canzone di Marinella\, Don Raffaè e altre\, guardandole con occhio nuovo\, anzi con orecchio nuovo.
URL:https://www.teatromercadante.com/eventi/faber-musicae/
CATEGORIES:Rassegna "Rock & Jazz"
ATTACH;FMTTYPE=image/jpeg:https://www.teatromercadante.com/wp-content/uploads/2023/02/faber-musicae.jpg
END:VEVENT
END:VCALENDAR