BEGIN:VCALENDAR
VERSION:2.0
PRODID:-//Teatro Mercadante - ECPv6.15.20//NONSGML v1.0//EN
CALSCALE:GREGORIAN
METHOD:PUBLISH
X-ORIGINAL-URL:https://www.teatromercadante.com
X-WR-CALDESC:Eventi per Teatro Mercadante
REFRESH-INTERVAL;VALUE=DURATION:PT1H
X-Robots-Tag:noindex
X-PUBLISHED-TTL:PT1H
BEGIN:VTIMEZONE
TZID:Europe/Helsinki
BEGIN:DAYLIGHT
TZOFFSETFROM:+0200
TZOFFSETTO:+0300
TZNAME:EEST
DTSTART:20210328T010000
END:DAYLIGHT
BEGIN:STANDARD
TZOFFSETFROM:+0300
TZOFFSETTO:+0200
TZNAME:EET
DTSTART:20211031T010000
END:STANDARD
BEGIN:DAYLIGHT
TZOFFSETFROM:+0200
TZOFFSETTO:+0300
TZNAME:EEST
DTSTART:20220327T010000
END:DAYLIGHT
BEGIN:STANDARD
TZOFFSETFROM:+0300
TZOFFSETTO:+0200
TZNAME:EET
DTSTART:20221030T010000
END:STANDARD
BEGIN:DAYLIGHT
TZOFFSETFROM:+0200
TZOFFSETTO:+0300
TZNAME:EEST
DTSTART:20230326T010000
END:DAYLIGHT
BEGIN:STANDARD
TZOFFSETFROM:+0300
TZOFFSETTO:+0200
TZNAME:EET
DTSTART:20231029T010000
END:STANDARD
END:VTIMEZONE
BEGIN:VEVENT
DTSTART;TZID=Europe/Helsinki:20221022T230000
DTEND;TZID=Europe/Helsinki:20221023T010000
DTSTAMP:20260423T140857
CREATED:20230220T144024Z
LAST-MODIFIED:20230404T121806Z
UID:10000010-1666479600-1666486800@www.teatromercadante.com
SUMMARY:La Banda degli onesti
DESCRIPTION:Cosa succederebbe se scomparisse internet in tutto il mondo? Da questa inquietante domanda parte una vicenda surreale\, i cui protagonisti sono Fede e Chiara una coppia iper-digitale che dipende dalla tecnologia\, come la maggior parte di noi. Dopo questo inspiegabile black-out della rete\, la disperazione li assale e arrivano persino ad uno scontro verbale con Augusto\, un avventore di un bar\, “reo” di condurre una vita esattamente all’opposto: senza tecnologia. Da qui inizia una sorta di “viaggio nel tempo” che li porterà fino a quando il mondo digitale non esisteva\, e si giocava a… “Un\, due\, tre… Stella!” A disturbare le loro conversazioni sarà Angelo\, un cameriere scorbutico e stralunato\, che porterà un pizzico di trascendente in questa vicenda grottesca. Ma quale sarà il vero motivo della scomparsa di internet? Lo scoprirete in questa commedia brillante\, dall’umorismo raffinato e con riferimenti nostalgici che faranno ridere ed emozionare\, con un finale sorprendente.
URL:https://www.teatromercadante.com/eventi/la-banda-deglio-onesti/
CATEGORIES:Festival "Bombetta d'Oro"
ATTACH;FMTTYPE=image/jpeg:https://www.teatromercadante.com/wp-content/uploads/2023/02/la-banda-degli-onesti.jpg
END:VEVENT
BEGIN:VEVENT
DTSTART;TZID=Europe/Helsinki:20221023T203000
DTEND;TZID=Europe/Helsinki:20221023T223000
DTSTAMP:20260423T140857
CREATED:20230220T144042Z
LAST-MODIFIED:20230404T121713Z
UID:10000011-1666557000-1666564200@www.teatromercadante.com
SUMMARY:La Banda degli onesti
DESCRIPTION:Cosa succederebbe se scomparisse internet in tutto il mondo? Da questa inquietante domanda parte una vicenda surreale\, i cui protagonisti sono Fede e Chiara una coppia iper-digitale che dipende dalla tecnologia\, come la maggior parte di noi. Dopo questo inspiegabile black-out della rete\, la disperazione li assale e arrivano persino ad uno scontro verbale con Augusto\, un avventore di un bar\, “reo” di condurre una vita esattamente all’opposto: senza tecnologia. Da qui inizia una sorta di “viaggio nel tempo” che li porterà fino a quando il mondo digitale non esisteva\, e si giocava a… “Un\, due\, tre… Stella!” A disturbare le loro conversazioni sarà Angelo\, un cameriere scorbutico e stralunato\, che porterà un pizzico di trascendente in questa vicenda grottesca. Ma quale sarà il vero motivo della scomparsa di internet? Lo scoprirete in questa commedia brillante\, dall’umorismo raffinato e con riferimenti nostalgici che faranno ridere ed emozionare\, con un finale sorprendente.
URL:https://www.teatromercadante.com/eventi/la-banda-degli-onesti/
CATEGORIES:Festival "Bombetta d'Oro"
ATTACH;FMTTYPE=image/jpeg:https://www.teatromercadante.com/wp-content/uploads/2023/02/la-banda-degli-onesti.jpg
END:VEVENT
END:VCALENDAR